Package: drawProteins Version: 1.24.0 Command: /Library/Frameworks/R.framework/Resources/bin/R CMD check --install=check:drawProteins.install-out.txt --library=/Library/Frameworks/R.framework/Resources/library --no-vignettes --timings drawProteins_1.24.0.tar.gz StartedAt: 2024-06-10 14:17:29 -0400 (Mon, 10 Jun 2024) EndedAt: 2024-06-10 14:18:52 -0400 (Mon, 10 Jun 2024) EllapsedTime: 83.6 seconds RetCode: 0 Status: OK CheckDir: drawProteins.Rcheck Warnings: 0