Package: drawProteins Version: 1.24.0 Maintainer: Paul Brennan MaintainerEmail: brennanpincardiff at gmail.com git_url: https://git.bioconductor.org/packages/drawProteins git_branch: RELEASE_3_19 git_last_commit: c7a74ec git_last_commit_date: 2024-04-30 11:03:08 -0400 (Tue, 30 Apr 2024)