Package: dpeak Version: 1.16.0 Command: chmod a+r dpeak -R && F:\biocbuild\bbs-3.19-bioc\R\bin\R.exe CMD build --keep-empty-dirs --no-resave-data dpeak StartedAt: 2024-06-26 18:30:33 -0400 (Wed, 26 Jun 2024) EndedAt: 2024-06-26 18:32:30 -0400 (Wed, 26 Jun 2024) EllapsedTime: 116.8 seconds RetCode: 0 Status: OK PackageFile: dpeak_1.16.0.tar.gz PackageFileSize: 295 KiB