Package: dpeak Version: 1.16.0 Command: /home/biocbuild/bbs-3.19-bioc/R/bin/R CMD INSTALL dpeak StartedAt: 2024-10-16 16:07:18 -0400 (Wed, 16 Oct 2024) EndedAt: 2024-10-16 16:08:10 -0400 (Wed, 16 Oct 2024) EllapsedTime: 52.1 seconds RetCode: 0 Status: OK