Package: dpeak Version: 1.16.0 Command: /home/biocbuild/bbs-3.19-bioc/R/bin/R CMD build --keep-empty-dirs --no-resave-data dpeak StartedAt: 2024-10-16 18:16:48 -0400 (Wed, 16 Oct 2024) EndedAt: 2024-10-16 18:18:09 -0400 (Wed, 16 Oct 2024) EllapsedTime: 80.2 seconds RetCode: 0 Status: OK PackageFile: dpeak_1.16.0.tar.gz PackageFileSize: 293.4 KiB