Package: dpeak Version: 1.16.0 Command: rm -rf dpeak.buildbin-libdir && mkdir dpeak.buildbin-libdir && /Users/biocbuild/BBS/utils/build-universal.sh dpeak_1.16.0.tar.gz /Library/Frameworks/R.framework/Resources/bin/R dpeak.buildbin-libdir StartedAt: 2024-06-11 11:01:43 -0400 (Tue, 11 Jun 2024) EndedAt: 2024-06-11 11:03:38 -0400 (Tue, 11 Jun 2024) EllapsedTime: 114.8 seconds RetCode: 0 Status: OK PackageFile: dpeak_1.16.0.tgz PackageFileSize: 765.7 KiB