Package: doubletrouble Version: 1.4.4 Command: E:\biocbuild\bbs-3.19-bioc\R\bin\R.exe CMD INSTALL doubletrouble StartedAt: 2024-10-16 16:53:44 -0400 (Wed, 16 Oct 2024) EndedAt: 2024-10-16 16:55:03 -0400 (Wed, 16 Oct 2024) EllapsedTime: 79.0 seconds RetCode: 0 Status: OK