Package: doubletrouble Version: 1.4.4 Command: /home/biocbuild/bbs-3.19-bioc/R/bin/R CMD INSTALL doubletrouble StartedAt: 2024-10-16 16:26:13 -0400 (Wed, 16 Oct 2024) EndedAt: 2024-10-16 16:26:51 -0400 (Wed, 16 Oct 2024) EllapsedTime: 38.6 seconds RetCode: 0 Status: OK