Package: doubletrouble Version: 1.4.4 Command: /home/biocbuild/bbs-3.19-bioc/R/bin/R CMD check --install=check:doubletrouble.install-out.txt --library=/home/biocbuild/bbs-3.19-bioc/R/site-library --timings doubletrouble_1.4.4.tar.gz StartedAt: 2024-10-16 23:56:38 -0400 (Wed, 16 Oct 2024) EndedAt: 2024-10-17 00:02:36 -0400 (Thu, 17 Oct 2024) EllapsedTime: 357.7 seconds RetCode: 0 Status: OK CheckDir: doubletrouble.Rcheck Warnings: 0