Package: doubletrouble Version: 1.4.4 Command: /Library/Frameworks/R.framework/Resources/bin/R CMD build --keep-empty-dirs --no-resave-data doubletrouble StartedAt: 2024-10-16 18:52:02 -0400 (Wed, 16 Oct 2024) EndedAt: 2024-10-16 18:55:28 -0400 (Wed, 16 Oct 2024) EllapsedTime: 206.1 seconds RetCode: 0 Status: OK PackageFile: doubletrouble_1.4.4.tar.gz PackageFileSize: 4.828 MiB