Package: doubletrouble Version: 1.4.0 Command: /Library/Frameworks/R.framework/Resources/bin/R CMD INSTALL doubletrouble StartedAt: 2024-06-09 16:41:01 -0400 (Sun, 09 Jun 2024) EndedAt: 2024-06-09 16:41:58 -0400 (Sun, 09 Jun 2024) EllapsedTime: 56.5 seconds RetCode: 0 Status: OK