Package: doubletrouble Version: 1.4.0 Command: rm -rf doubletrouble.buildbin-libdir && mkdir doubletrouble.buildbin-libdir && /Users/biocbuild/BBS/utils/build-universal.sh doubletrouble_1.4.0.tar.gz /Library/Frameworks/R.framework/Resources/bin/R doubletrouble.buildbin-libdir StartedAt: 2024-06-11 11:01:33 -0400 (Tue, 11 Jun 2024) EndedAt: 2024-06-11 11:02:50 -0400 (Tue, 11 Jun 2024) EllapsedTime: 77.1 seconds RetCode: 0 Status: OK PackageFile: doubletrouble_1.4.0.tgz PackageFileSize: 4.803 MiB