Package: doubletrouble Version: 1.4.4 Command: rm -rf doubletrouble.buildbin-libdir && mkdir doubletrouble.buildbin-libdir && /Users/biocbuild/BBS/utils/build-universal.sh doubletrouble_1.4.4.tar.gz /Library/Frameworks/R.framework/Resources/bin/R doubletrouble.buildbin-libdir StartedAt: 2024-10-18 18:15:59 -0400 (Fri, 18 Oct 2024) EndedAt: 2024-10-18 18:16:53 -0400 (Fri, 18 Oct 2024) EllapsedTime: 54.7 seconds RetCode: 0 Status: OK PackageFile: doubletrouble_1.4.4.tgz PackageFileSize: 4.892 MiB