Package: doppelgangR Version: 1.32.0 Command: rm -rf doppelgangR.buildbin-libdir && mkdir doppelgangR.buildbin-libdir && E:\biocbuild\bbs-3.19-bioc\R\bin\R.exe CMD INSTALL --build --library=doppelgangR.buildbin-libdir doppelgangR_1.32.0.tar.gz StartedAt: 2024-10-17 07:43:01 -0400 (Thu, 17 Oct 2024) EndedAt: 2024-10-17 07:43:54 -0400 (Thu, 17 Oct 2024) EllapsedTime: 52.6 seconds RetCode: 0 Status: OK PackageFile: doppelgangR_1.32.0.zip PackageFileSize: 818.6 KiB