Package: doppelgangR Version: 1.32.0 Command: /Library/Frameworks/R.framework/Resources/bin/R CMD INSTALL doppelgangR StartedAt: 2024-06-09 15:32:15 -0400 (Sun, 09 Jun 2024) EndedAt: 2024-06-09 15:32:58 -0400 (Sun, 09 Jun 2024) EllapsedTime: 42.7 seconds RetCode: 0 Status: OK