Package: doppelgangR Version: 1.32.0 Command: /Library/Frameworks/R.framework/Resources/bin/R CMD check --install=check:doppelgangR.install-out.txt --library=/Library/Frameworks/R.framework/Resources/library --no-vignettes --timings doppelgangR_1.32.0.tar.gz StartedAt: 2024-06-10 14:09:29 -0400 (Mon, 10 Jun 2024) EndedAt: 2024-06-10 14:18:20 -0400 (Mon, 10 Jun 2024) EllapsedTime: 530.8 seconds RetCode: 0 Status: OK CheckDir: doppelgangR.Rcheck Warnings: 0