Package: doppelgangR Version: 1.32.0 Command: rm -rf doppelgangR.buildbin-libdir && mkdir doppelgangR.buildbin-libdir && /Users/biocbuild/BBS/utils/build-universal.sh doppelgangR_1.32.0.tar.gz /Library/Frameworks/R.framework/Resources/bin/R doppelgangR.buildbin-libdir StartedAt: 2024-06-11 11:00:47 -0400 (Tue, 11 Jun 2024) EndedAt: 2024-06-11 11:01:52 -0400 (Tue, 11 Jun 2024) EllapsedTime: 65.0 seconds RetCode: 0 Status: OK PackageFile: doppelgangR_1.32.0.tgz PackageFileSize: 946.8 KiB