Package: doppelgangR Version: 1.32.0 Command: /Library/Frameworks/R.framework/Resources/bin/R CMD check --install=check:doppelgangR.install-out.txt --library=/Library/Frameworks/R.framework/Resources/library --no-vignettes --timings doppelgangR_1.32.0.tar.gz StartedAt: 2024-10-17 20:04:00 -0400 (Thu, 17 Oct 2024) EndedAt: 2024-10-17 20:09:23 -0400 (Thu, 17 Oct 2024) EllapsedTime: 322.4 seconds RetCode: 0 Status: OK CheckDir: doppelgangR.Rcheck Warnings: 0