Package: doppelgangR Version: 1.32.0 Command: rm -rf doppelgangR.buildbin-libdir && mkdir doppelgangR.buildbin-libdir && /Users/biocbuild/BBS/utils/build-universal.sh doppelgangR_1.32.0.tar.gz /Library/Frameworks/R.framework/Resources/bin/R doppelgangR.buildbin-libdir StartedAt: 2024-10-18 18:15:32 -0400 (Fri, 18 Oct 2024) EndedAt: 2024-10-18 18:16:18 -0400 (Fri, 18 Oct 2024) EllapsedTime: 46.4 seconds RetCode: 0 Status: OK PackageFile: doppelgangR_1.32.0.tgz PackageFileSize: 942.5 KiB