Package: dmrseq Version: 1.24.2 Command: E:\biocbuild\bbs-3.19-bioc\R\bin\R.exe CMD INSTALL dmrseq StartedAt: 2024-10-16 16:36:16 -0400 (Wed, 16 Oct 2024) EndedAt: 2024-10-16 16:37:07 -0400 (Wed, 16 Oct 2024) EllapsedTime: 51.8 seconds RetCode: 0 Status: OK