Package: dmrseq Version: 1.24.2 Command: chmod a+r dmrseq -R && E:\biocbuild\bbs-3.19-bioc\R\bin\R.exe CMD build --keep-empty-dirs --no-resave-data dmrseq StartedAt: 2024-10-16 18:45:15 -0400 (Wed, 16 Oct 2024) EndedAt: 2024-10-16 19:01:13 -0400 (Wed, 16 Oct 2024) EllapsedTime: 957.9 seconds RetCode: 0 Status: OK PackageFile: dmrseq_1.24.2.tar.gz PackageFileSize: 2.676 MiB