Package: dmrseq Version: 1.24.2 Command: rm -rf dmrseq.buildbin-libdir && mkdir dmrseq.buildbin-libdir && E:\biocbuild\bbs-3.19-bioc\R\bin\R.exe CMD INSTALL --build --library=dmrseq.buildbin-libdir dmrseq_1.24.2.tar.gz StartedAt: 2024-10-17 07:42:33 -0400 (Thu, 17 Oct 2024) EndedAt: 2024-10-17 07:43:28 -0400 (Thu, 17 Oct 2024) EllapsedTime: 54.4 seconds RetCode: 0 Status: OK PackageFile: dmrseq_1.24.2.zip PackageFileSize: 4.222 MiB