Package: dmrseq Version: 1.24.2 Command: /Library/Frameworks/R.framework/Resources/bin/R CMD check --install=check:dmrseq.install-out.txt --library=/Library/Frameworks/R.framework/Resources/library --no-vignettes --timings dmrseq_1.24.2.tar.gz StartedAt: 2024-10-17 04:27:22 -0400 (Thu, 17 Oct 2024) EndedAt: 2024-10-17 04:43:02 -0400 (Thu, 17 Oct 2024) EllapsedTime: 939.1 seconds RetCode: 0 Status: OK CheckDir: dmrseq.Rcheck Warnings: 0