Package: dmrseq Version: 1.24.0 Command: /home/biocbuild/R/R-beta-2024-04-15_r86425/bin/R CMD check --install=check:dmrseq.install-out.txt --library=/home/biocbuild/R/R-beta-2024-04-15_r86425/site-library --no-vignettes --timings dmrseq_1.24.0.tar.gz StartedAt: 2024-05-09 06:54:12 -0000 (Thu, 09 May 2024) EndedAt: 2024-05-09 07:02:07 -0000 (Thu, 09 May 2024) EllapsedTime: 474.8 seconds RetCode: 0 Status: OK CheckDir: dmrseq.Rcheck Warnings: 0