Package: dmrseq Version: 1.24.2 Command: /Library/Frameworks/R.framework/Resources/bin/R CMD build --keep-empty-dirs --no-resave-data dmrseq StartedAt: 2024-10-16 23:30:28 -0400 (Wed, 16 Oct 2024) EndedAt: 2024-10-16 23:33:50 -0400 (Wed, 16 Oct 2024) EllapsedTime: 201.8 seconds RetCode: 0 Status: OK PackageFile: dmrseq_1.24.2.tar.gz PackageFileSize: 2.968 MiB