Package: dmrseq Version: 1.24.2 Command: rm -rf dmrseq.buildbin-libdir && mkdir dmrseq.buildbin-libdir && /Users/biocbuild/BBS/utils/build-universal.sh dmrseq_1.24.2.tar.gz /Library/Frameworks/R.framework/Resources/bin/R dmrseq.buildbin-libdir StartedAt: 2024-10-18 18:14:18 -0400 (Fri, 18 Oct 2024) EndedAt: 2024-10-18 18:15:32 -0400 (Fri, 18 Oct 2024) EllapsedTime: 73.2 seconds RetCode: 0 Status: OK PackageFile: dmrseq_1.24.2.tgz PackageFileSize: 4.975 MiB