Package: dks Version: 1.50.0 Command: E:\biocbuild\bbs-3.19-bioc\R\bin\R.exe CMD INSTALL dks StartedAt: 2024-10-16 16:00:23 -0400 (Wed, 16 Oct 2024) EndedAt: 2024-10-16 16:00:54 -0400 (Wed, 16 Oct 2024) EllapsedTime: 30.5 seconds RetCode: 0 Status: OK