Package: dks Version: 1.50.0 Command: chmod a+r dks -R && E:\biocbuild\bbs-3.19-bioc\R\bin\R.exe CMD build --keep-empty-dirs --no-resave-data dks StartedAt: 2024-10-16 18:44:29 -0400 (Wed, 16 Oct 2024) EndedAt: 2024-10-16 18:44:42 -0400 (Wed, 16 Oct 2024) EllapsedTime: 13.1 seconds RetCode: 0 Status: OK PackageFile: dks_1.50.0.tar.gz PackageFileSize: 433.7 KiB