Package: dks Version: 1.50.0 Command: rm -rf dks.buildbin-libdir && mkdir dks.buildbin-libdir && E:\biocbuild\bbs-3.19-bioc\R\bin\R.exe CMD INSTALL --build --library=dks.buildbin-libdir dks_1.50.0.tar.gz StartedAt: 2024-10-17 07:42:20 -0400 (Thu, 17 Oct 2024) EndedAt: 2024-10-17 07:42:28 -0400 (Thu, 17 Oct 2024) EllapsedTime: 7.7 seconds RetCode: 0 Status: OK PackageFile: dks_1.50.0.zip PackageFileSize: 456.3 KiB