Package: dks Version: 1.50.0 Command: chmod a+r dks -R && F:\biocbuild\bbs-3.19-bioc\R\bin\R.exe CMD build --keep-empty-dirs --no-resave-data dks StartedAt: 2024-06-26 18:27:48 -0400 (Wed, 26 Jun 2024) EndedAt: 2024-06-26 18:28:07 -0400 (Wed, 26 Jun 2024) EllapsedTime: 19.2 seconds RetCode: 0 Status: OK PackageFile: dks_1.50.0.tar.gz PackageFileSize: 433.4 KiB