Package: dks Version: 1.50.0 Command: /Library/Frameworks/R.framework/Resources/bin/R CMD INSTALL dks StartedAt: 2024-10-16 15:07:42 -0400 (Wed, 16 Oct 2024) EndedAt: 2024-10-16 15:08:25 -0400 (Wed, 16 Oct 2024) EllapsedTime: 42.3 seconds RetCode: 0 Status: OK