Package: dks Version: 1.50.0 Command: /home/biocbuild/R/R-beta-2024-04-15_r86425/bin/R CMD check --install=check:dks.install-out.txt --library=/home/biocbuild/R/R-beta-2024-04-15_r86425/site-library --no-vignettes --timings dks_1.50.0.tar.gz StartedAt: 2024-05-09 06:52:44 -0000 (Thu, 09 May 2024) EndedAt: 2024-05-09 06:53:17 -0000 (Thu, 09 May 2024) EllapsedTime: 33.0 seconds RetCode: 0 Status: OK CheckDir: dks.Rcheck Warnings: 0