Package: dks Version: 1.50.0 Command: /Library/Frameworks/R.framework/Resources/bin/R CMD check --install=check:dks.install-out.txt --library=/Library/Frameworks/R.framework/Resources/library --no-vignettes --timings dks_1.50.0.tar.gz StartedAt: 2024-10-17 19:54:55 -0400 (Thu, 17 Oct 2024) EndedAt: 2024-10-17 19:55:31 -0400 (Thu, 17 Oct 2024) EllapsedTime: 36.0 seconds RetCode: 0 Status: OK CheckDir: dks.Rcheck Warnings: 0