Package: divergence Version: 1.20.0 Command: E:\biocbuild\bbs-3.19-bioc\R\bin\R.exe CMD INSTALL divergence StartedAt: 2024-10-16 16:19:07 -0400 (Wed, 16 Oct 2024) EndedAt: 2024-10-16 16:19:40 -0400 (Wed, 16 Oct 2024) EllapsedTime: 33.2 seconds RetCode: 0 Status: OK