Package: divergence Version: 1.20.0 Command: chmod a+r divergence -R && F:\biocbuild\bbs-3.19-bioc\R\bin\R.exe CMD build --keep-empty-dirs --no-resave-data divergence StartedAt: 2024-06-26 18:27:46 -0400 (Wed, 26 Jun 2024) EndedAt: 2024-06-26 18:28:41 -0400 (Wed, 26 Jun 2024) EllapsedTime: 55.0 seconds RetCode: 0 Status: OK PackageFile: divergence_1.20.0.tar.gz PackageFileSize: 2.072 MiB