Package: divergence Version: 1.20.0 Command: rm -rf divergence.buildbin-libdir && mkdir divergence.buildbin-libdir && F:\biocbuild\bbs-3.19-bioc\R\bin\R.exe CMD INSTALL --build --library=divergence.buildbin-libdir divergence_1.20.0.tar.gz StartedAt: 2024-06-27 08:07:58 -0400 (Thu, 27 Jun 2024) EndedAt: 2024-06-27 08:08:35 -0400 (Thu, 27 Jun 2024) EllapsedTime: 36.4 seconds RetCode: 0 Status: OK PackageFile: divergence_1.20.0.zip PackageFileSize: 1.954 MiB