Package: divergence Version: 1.20.0 Command: /home/biocbuild/bbs-3.19-bioc/R/bin/R CMD INSTALL divergence StartedAt: 2024-10-16 15:56:07 -0400 (Wed, 16 Oct 2024) EndedAt: 2024-10-16 15:56:26 -0400 (Wed, 16 Oct 2024) EllapsedTime: 19.2 seconds RetCode: 0 Status: OK