Package: divergence Version: 1.20.0 Command: /home/biocbuild/bbs-3.19-bioc/R/bin/R CMD build --keep-empty-dirs --no-resave-data divergence StartedAt: 2024-10-16 18:14:52 -0400 (Wed, 16 Oct 2024) EndedAt: 2024-10-16 18:15:42 -0400 (Wed, 16 Oct 2024) EllapsedTime: 50.1 seconds RetCode: 0 Status: OK PackageFile: divergence_1.20.0.tar.gz PackageFileSize: 2.072 MiB