Package: divergence Version: 1.20.0 Command: rm -rf divergence.buildbin-libdir && mkdir divergence.buildbin-libdir && /Users/biocbuild/BBS/utils/build-universal.sh divergence_1.20.0.tar.gz /Library/Frameworks/R.framework/Resources/bin/R divergence.buildbin-libdir StartedAt: 2024-10-17 16:02:50 -0400 (Thu, 17 Oct 2024) EndedAt: 2024-10-17 16:03:41 -0400 (Thu, 17 Oct 2024) EllapsedTime: 51.1 seconds RetCode: 0 Status: OK PackageFile: divergence_1.20.0.tgz PackageFileSize: 1.954 MiB