Package: divergence Version: 1.20.0 Command: /home/biocbuild/R/R-beta-2024-04-15_r86425/bin/R CMD build --keep-empty-dirs --no-resave-data divergence StartedAt: 2024-05-08 23:57:12 -0000 (Wed, 08 May 2024) EndedAt: 2024-05-08 23:58:24 -0000 (Wed, 08 May 2024) EllapsedTime: 72.1 seconds RetCode: 0 Status: OK PackageFile: divergence_1.20.0.tar.gz PackageFileSize: 2.072 MiB