Package: divergence Version: 1.20.0 Command: /Library/Frameworks/R.framework/Resources/bin/R CMD check --install=check:divergence.install-out.txt --library=/Library/Frameworks/R.framework/Resources/library --no-vignettes --timings divergence_1.20.0.tar.gz StartedAt: 2024-06-10 13:58:32 -0400 (Mon, 10 Jun 2024) EndedAt: 2024-06-10 14:03:46 -0400 (Mon, 10 Jun 2024) EllapsedTime: 313.7 seconds RetCode: 0 Status: OK CheckDir: divergence.Rcheck Warnings: 0