Package: divergence Version: 1.20.0 Command: rm -rf divergence.buildbin-libdir && mkdir divergence.buildbin-libdir && /Users/biocbuild/BBS/utils/build-universal.sh divergence_1.20.0.tar.gz /Library/Frameworks/R.framework/Resources/bin/R divergence.buildbin-libdir StartedAt: 2024-06-11 10:59:18 -0400 (Tue, 11 Jun 2024) EndedAt: 2024-06-11 11:00:01 -0400 (Tue, 11 Jun 2024) EllapsedTime: 42.6 seconds RetCode: 0 Status: OK PackageFile: divergence_1.20.0.tgz PackageFileSize: 1.954 MiB