Package: divergence Version: 1.20.0 Command: /Library/Frameworks/R.framework/Resources/bin/R CMD check --install=check:divergence.install-out.txt --library=/Library/Frameworks/R.framework/Resources/library --no-vignettes --timings divergence_1.20.0.tar.gz StartedAt: 2024-10-17 19:52:59 -0400 (Thu, 17 Oct 2024) EndedAt: 2024-10-17 19:56:25 -0400 (Thu, 17 Oct 2024) EllapsedTime: 205.5 seconds RetCode: 0 Status: OK CheckDir: divergence.Rcheck Warnings: 0