Package: distinct Version: 1.16.0 Command: /home/biocbuild/bbs-3.19-bioc/R/bin/R CMD check --install=check:distinct.install-out.txt --library=/home/biocbuild/bbs-3.19-bioc/R/site-library --timings distinct_1.16.0.tar.gz StartedAt: 2024-10-16 23:52:05 -0400 (Wed, 16 Oct 2024) EndedAt: 2024-10-17 00:00:50 -0400 (Thu, 17 Oct 2024) EllapsedTime: 525.1 seconds RetCode: 0 Status: OK CheckDir: distinct.Rcheck Warnings: 0