Package: distinct Version: 1.16.0 Command: /home/biocbuild/bbs-3.19-bioc/R/bin/R CMD build --keep-empty-dirs --no-resave-data distinct StartedAt: 2024-10-16 18:14:38 -0400 (Wed, 16 Oct 2024) EndedAt: 2024-10-16 18:18:29 -0400 (Wed, 16 Oct 2024) EllapsedTime: 230.4 seconds RetCode: 0 Status: OK PackageFile: distinct_1.16.0.tar.gz PackageFileSize: 1.779 MiB