Package: distinct Version: 1.16.0 Command: /Library/Frameworks/R.framework/Resources/bin/R CMD build --keep-empty-dirs --no-resave-data distinct StartedAt: 2024-10-16 18:47:25 -0400 (Wed, 16 Oct 2024) EndedAt: 2024-10-16 18:54:32 -0400 (Wed, 16 Oct 2024) EllapsedTime: 427.2 seconds RetCode: 0 Status: OK PackageFile: distinct_1.16.0.tar.gz PackageFileSize: 1.86 MiB