Package: distinct Version: 1.16.0 Command: rm -rf distinct.buildbin-libdir && mkdir distinct.buildbin-libdir && /Users/biocbuild/BBS/utils/build-universal.sh distinct_1.16.0.tar.gz /Library/Frameworks/R.framework/Resources/bin/R distinct.buildbin-libdir StartedAt: 2024-10-17 16:02:43 -0400 (Thu, 17 Oct 2024) EndedAt: 2024-10-17 16:05:26 -0400 (Thu, 17 Oct 2024) EllapsedTime: 163.1 seconds RetCode: 0 Status: OK PackageFile: distinct_1.16.0.tgz PackageFileSize: 2.021 MiB