Package: discordant Version: 1.28.0 Command: F:\biocbuild\bbs-3.19-bioc\R\bin\R.exe CMD INSTALL discordant StartedAt: 2024-06-26 15:45:18 -0400 (Wed, 26 Jun 2024) EndedAt: 2024-06-26 15:45:47 -0400 (Wed, 26 Jun 2024) EllapsedTime: 28.6 seconds RetCode: 0 Status: OK