Package: discordant Version: 1.28.0 Command: /home/biocbuild/bbs-3.19-bioc/R/bin/R CMD check --install=check:discordant.install-out.txt --library=/home/biocbuild/bbs-3.19-bioc/R/site-library --timings discordant_1.28.0.tar.gz StartedAt: 2024-10-16 23:51:46 -0400 (Wed, 16 Oct 2024) EndedAt: 2024-10-16 23:52:55 -0400 (Wed, 16 Oct 2024) EllapsedTime: 69.1 seconds RetCode: 0 Status: OK CheckDir: discordant.Rcheck Warnings: 0