Package: discordant Version: 1.28.0 Command: /Library/Frameworks/R.framework/Resources/bin/R CMD INSTALL discordant StartedAt: 2024-10-16 15:12:07 -0400 (Wed, 16 Oct 2024) EndedAt: 2024-10-16 15:12:36 -0400 (Wed, 16 Oct 2024) EllapsedTime: 28.5 seconds RetCode: 0 Status: OK